BEGIN:VCALENDAR
VERSION:2.0
PRODID:-//ChamberMaster//Event Calendar 2.0//EN
METHOD:PUBLISH
X-PUBLISHED-TTL:P3D
REFRESH-INTERVAL:P3D
CALSCALE:GREGORIAN
BEGIN:VEVENT
DTSTART:20180427T160000Z
DTEND:20180427T210000Z
X-MICROSOFT-CDO-ALLDAYEVENT:FALSE
SUMMARY:2018 Spring Fling GOLF Tournament
DESCRIPTION:Join us for the annual Spring Fling Golf Tournament at the beautiful Legacy Golf Club.\n\nHOLE IN ONE PRIZE - Sponsored by PGT Custom Windows & Doors\n\nSt. Andrews Golf Vacation ($15\,000 Value)\n\nPlay at the Home of Golf   St Andrews. This 7-day/6-night hole in one prize package includes green fees\, overnight accommodations\, daily breakfast and roundtrip airfare for two. Four of the nights you'll spend in the heart of St. Andrews playing St. Andrews Old\, St. Andrews New and Carnoustie\, host of 2018 British Open\, followed by 2 nights at the deluxe Turnberry Resort while playing Turnberry Kintyre and Turnberry Ailsa\, British Open venue and highest ranked course in the British Isles.\n\nNOTE: PGA Card owners are not eligible for HOLE IN ONE Contests.\n\n\n\n\n\nDONT GOLF? BE A SPONSOR! If you don't golf and want to show off your products to the local building industry professionals\, I suggest you sponsor a staffed hole where you will have the opportunity to meet everyone out on the course!\n\nClick Here for printable registration and sponsorship details.\n\n$400 Bag Sponsor\n\n$350 Staffed Tee Sponsor\n\n$300 + supply the Prize Specialty Contest Sponsor\n\n$200 Builder Tee Sponsor\n\n$100 Associate Tee Sponsor
X-ALT-DESC;FMTTYPE=text/html:<span style="color: rgb(29\, 33\, 41)\; font-family: Helvetica\, Arial\, sans-serif\; font-size: 14px\; background-color: rgb(255\, 255\, 255)\;">Join us for the annual Spring Fling Golf Tournament at the beautiful Legacy Golf Club.<br />\nHOLE IN ONE PRIZE - Sponsored by PGT Custom Windows &amp\; Doors</span><br />\nSt. Andrews Golf Vacation ($15\,000 Value)<br />\nPlay at the Home of Golf &hellip\; St Andrews. This 7-day/6-night hole in one prize package includes green fees\, overnight accommodations\, daily breakfast and roundtrip airfare for two. Four of the nights you&rsquo\;ll spend in the heart of St. Andrews playing St. Andrews Old\, St. Andrews New and Carnoustie\, host of 2018 British Open\, followed by 2 nights at the deluxe Turnberry Resort while playing Turnberry Kintyre and Turnberry Ailsa\, British Open venue and highest ranked course in the British Isles.<br />\n<span style="color:#FF0000\;"><span style="font-family: Helvetica\, Arial\, sans-serif\; font-size: 14px\;">NOTE:</span><span class="text_exposed_show" style="display: inline\; font-family: Helvetica\, Arial\, sans-serif\; font-size: 14px\;">&nbsp\;PGA Card owners are not eligible for HOLE IN ONE Contests.</span></span><br />\n<br />\n<br style="color: rgb(29\, 33\, 41)\; font-family: Helvetica\, Arial\, sans-serif\; font-size: 14px\; background-color: rgb(255\, 255\, 255)\;" />\n<span style="color: rgb(29\, 33\, 41)\; font-family: Helvetica\, Arial\, sans-serif\; font-size: 14px\; background-color: rgb(255\, 255\, 255)\;">DONT GOLF? BE A SPONSOR! If you don&#39\;t golf and want to show off your products to the local building industry professionals\, I suggest you sponsor a staffed hole where you will have the opportunity to meet everyone out on the course!</span><br />\n<em><strong><span style="font-size:16px\;"><a href="https://chambermaster.blob.core.windows.net/userfiles/UserFiles/chambers/9232/File/GolfTournamentFlyer4.27.18.pdf"><span style="color:#000080\;">Click Here for printable registration and sponsorship details.</span></a></span></strong></em><br />\n<span style="color: rgb(51\, 51\, 51)\; font-family: sans-serif\, Arial\, Verdana\, &quot\;Trebuchet MS&quot\;\; font-size: 13px\; background-color: rgb(255\, 255\, 255)\;">$400 Bag Sponsor</span><br style="color: rgb(51\, 51\, 51)\; font-family: sans-serif\, Arial\, Verdana\, &quot\;Trebuchet MS&quot\;\; font-size: 13px\;" />\n<span style="color: rgb(51\, 51\, 51)\; font-family: sans-serif\, Arial\, Verdana\, &quot\;Trebuchet MS&quot\;\; font-size: 13px\; background-color: rgb(255\, 255\, 255)\;">$350 Staffed Tee Sponsor</span><br style="color: rgb(51\, 51\, 51)\; font-family: sans-serif\, Arial\, Verdana\, &quot\;Trebuchet MS&quot\;\; font-size: 13px\;" />\n<span style="color: rgb(51\, 51\, 51)\; font-family: sans-serif\, Arial\, Verdana\, &quot\;Trebuchet MS&quot\;\; font-size: 13px\; background-color: rgb(255\, 255\, 255)\;">$300 + supply the Prize Specialty Contest Sponsor<br />\n$200 Builder Tee Sponsor</span><br style="color: rgb(51\, 51\, 51)\; font-family: sans-serif\, Arial\, Verdana\, &quot\;Trebuchet MS&quot\;\; font-size: 13px\;" />\n<span style="color: rgb(51\, 51\, 51)\; font-family: sans-serif\, Arial\, Verdana\, &quot\;Trebuchet MS&quot\;\; font-size: 13px\; background-color: rgb(255\, 255\, 255)\;">$100 Associate Tee Sponsor&nbsp\;</span><br style="color: rgb(51\, 51\, 51)\; font-family: sans-serif\, Arial\, Verdana\, &quot\;Trebuchet MS&quot\;\; font-size: 13px\;" />\n&nbsp\;
LOCATION:Legacy Golf Club at Lakewood Ranch 8255 Legacy Blvd. Bradenton\, FL 34202
UID:e.9232.1867
SEQUENCE:3
DTSTAMP:20260423T082317Z
URL:https://business.ms-bia.org/events/details/2018-spring-fling-golf-tournament-1867
END:VEVENT

END:VCALENDAR
