BEGIN:VCALENDAR
VERSION:2.0
PRODID:-//ChamberMaster//Event Calendar 2.0//EN
METHOD:PUBLISH
X-PUBLISHED-TTL:P3D
REFRESH-INTERVAL:P3D
CALSCALE:GREGORIAN
BEGIN:VEVENT
DTSTART;VALUE=DATE:20180731
DTEND;VALUE=DATE:20180805
TRANSP:TRANSPARENT
X-MICROSOFT-CDO-ALLDAYEVENT:TRUE
SUMMARY:2018 SARASOTA SLAM - MSBIA Fishing Tournament
DESCRIPTION:Join us for the 17th Annual Sarasota Slam Fishing Tournament!\n\n\n\nBillfish\, Fun Fish\, Inshore\, Offshore and Jr. Angler Divisions! All boats will be automatically registered to win the Trash Can Slam at no extra charge! There will be mandatory captains meetings prior to anglers being released to fish. BillfishFun Fish Captains Meeting is Tuesday\, July 31st 6pm. Offshore Captains Meeting is at Noon on Friday\, August 3rd.  Inshore Captains Meeting is at 5pm on Friday August 3rd \n\nWeigh-in\, silent auction and raffles on Saturday\, August 4th starting at 1pm. Followed by a great party.
X-ALT-DESC;FMTTYPE=text/html:<span style="font-size: 12px\; font-family: arial\;"><span font-size:="" helvetica="" line-height:="" style="color: rgb(63\, 63\, 63)\;">Join us for the&nbsp\;17th&nbsp\;Annual Sarasota Slam Fishing Tournament!</span><br background-attachment:="" background-clip:="" background-image:="" background-origin:="" background-position:="" background-repeat:="" background-size:="" border-collapse:="" border-radius:="" border:="" height:="" helvetica="" left:="" line-height:="" margin:="" max-height:="" max-width:="" min-height:="" min-width:="" opacity:="" outline-offset:="" overflow:="" padding:="" position:="" resize:="" right:="" style="box-sizing: content-box\; bottom: auto\; clear: none\; color: rgb(63\, 63\, 63)\; content: normal\; direction: inherit\; display: inline\; empty-cells: show\; float: none\; font-stretch: inherit\; font-size: 14px\;" table-layout:="" text-overflow:="" top:="" vertical-align:="" visibility:="" width:="" word-break:="" word-wrap:="" z-index:="" />\n<br background-attachment:="" background-clip:="" background-image:="" background-origin:="" background-position:="" background-repeat:="" background-size:="" border-collapse:="" border-radius:="" border:="" height:="" helvetica="" left:="" line-height:="" margin:="" max-height:="" max-width:="" min-height:="" min-width:="" opacity:="" outline-offset:="" overflow:="" padding:="" position:="" resize:="" right:="" style="box-sizing: content-box\; bottom: auto\; clear: none\; color: rgb(63\, 63\, 63)\; content: normal\; direction: inherit\; display: inline\; empty-cells: show\; float: none\; font-stretch: inherit\; font-size: 14px\;" table-layout:="" text-overflow:="" top:="" vertical-align:="" visibility:="" width:="" word-break:="" word-wrap:="" z-index:="" />\n<span font-size:="" helvetica="" line-height:="" style="color: rgb(63\, 63\, 63)\;">Billfish\, Fun Fish\, Inshore\, Offshore and Jr. Angler Divisions! All boats will be automatically registered to win the Trash Can Slam at no extra charge! There will be mandatory&nbsp\;captains meetings prior to anglers being released to fish.&nbsp\;BillfishFun&nbsp\;Fish&nbsp\;Captains&nbsp\;Meeting is&nbsp\;Tuesday\, July&nbsp\;31st&nbsp\;6pm.&nbsp\;</span></span><span style="font-size: 12px\; color: rgb(63\, 63\, 63)\; font-family: arial\;">Offshore Captains Meeting is at Noon&nbsp\;on Friday\, August&nbsp\;</span>3rd<span style="font-family: Roboto\, sans-serif\; font-size: 12px\;">.&nbsp\;</span><span style="font-size: 12px\; font-family: arial\;"><span font-size:="" helvetica="" line-height:="" style="color: rgb(63\, 63\, 63)\;">&nbsp\;Inshore Captains Meeting is at&nbsp\;5pm&nbsp\;on Friday August&nbsp\;3rd&nbsp\;</span><br background-attachment:="" background-clip:="" background-image:="" background-origin:="" background-position:="" background-repeat:="" background-size:="" border-collapse:="" border-radius:="" border:="" height:="" helvetica="" left:="" line-height:="" margin:="" max-height:="" max-width:="" min-height:="" min-width:="" opacity:="" outline-offset:="" overflow:="" padding:="" position:="" resize:="" right:="" style="box-sizing: content-box\; bottom: auto\; clear: none\; color: rgb(63\, 63\, 63)\; content: normal\; direction: inherit\; display: inline\; empty-cells: show\; float: none\; font-stretch: inherit\; font-size: 14px\;" table-layout:="" text-overflow:="" top:="" vertical-align:="" visibility:="" width:="" word-break:="" word-wrap:="" z-index:="" />\n<span font-size:="" helvetica="" line-height:="" style="color: rgb(63\, 63\, 63)\;">Weigh-in\, silent auction and raffles on Saturday\, August&nbsp\;4th&nbsp\;starting at&nbsp\;1pm. Followed by a great party.</span></span>
LOCATION:Marina Jack 1 Marina Plaza Sarasota\, FL 34236 or LATITUDE 29' 19.98 LONGITUDE 82' 2.78
UID:e.9232.1825
SEQUENCE:3
DTSTAMP:20260423T135434Z
URL:https://business.ms-bia.org/events/details/2018-sarasota-slam-msbia-fishing-tournament-1825
END:VEVENT

END:VCALENDAR
