BEGIN:VCALENDAR
VERSION:2.0
PRODID:-//ChamberMaster//Event Calendar 2.0//EN
METHOD:PUBLISH
X-PUBLISHED-TTL:P3D
REFRESH-INTERVAL:P3D
CALSCALE:GREGORIAN
BEGIN:VEVENT
DTSTART:20180728T150000Z
DTEND:20180728T180000Z
X-MICROSOFT-CDO-ALLDAYEVENT:FALSE
SUMMARY:2018 Primary Election Candidate Rally & Straw Poll
DESCRIPTION:Come out and vote for your preferred candidate in each race on the 2018 Primary Election Ballot in the RPOS Straw Poll!\n\n \n\n\nMany statewide and local candidates will be on hand to share why they are running for office and to answer any questions that you may have!
X-ALT-DESC;FMTTYPE=text/html:<div>Come out and vote for your preferred candidate in each race on the 2018 Primary Election Ballot in the RPOS Straw Poll!</div>\n\n<div>&nbsp\;</div>\n\n<div>\n<div>Many statewide and local candidates will be on hand to share why they are running for office and to answer any questions that you may have!</div>\n</div>\n
LOCATION:Robarts Arena 3000 Ringling Blvd\, Sarasota\, FL 34237
UID:e.9232.1901
SEQUENCE:3
DTSTAMP:20260423T134831Z
URL:https://business.ms-bia.org/events/details/2018-primary-election-candidate-rally-straw-poll-1901
END:VEVENT

END:VCALENDAR
