BEGIN:VCALENDAR
VERSION:2.0
PRODID:-//ChamberMaster//Event Calendar 2.0//EN
METHOD:PUBLISH
X-PUBLISHED-TTL:P3D
REFRESH-INTERVAL:P3D
CALSCALE:GREGORIAN
BEGIN:VEVENT
DTSTART;VALUE=DATE:20171001
DTEND;VALUE=DATE:20180101
TRANSP:TRANSPARENT
X-MICROSOFT-CDO-ALLDAYEVENT:TRUE
SUMMARY:2018 Contractors Guide / Membership Directory
DESCRIPTION:Purchase an advertisement in the 2018 Manatee-Sarasota Contractors Guide / Membership Directory. But HURRY....we close sales on December 15th!\n\n\n\n****FREE Editorial with Ad Purchase\n\nEducate your customers\n\nExplain your Service\n\n\n\nDigital Publication Included\n\n\n\nCLICK HERE FOR FULL DETAILS\, PRICING AND AD SIZES
X-ALT-DESC;FMTTYPE=text/html:Purchase an advertisement in the 2018 Manatee-Sarasota Contractors&nbsp\;Guide / Membership Directory. But HURRY....we close sales on December 15th!<br />\n<br />\n****FREE Editorial with Ad Purchase<br />\nEducate your customers<br />\nExplain your Service<br />\n<br />\nDigital Publication Included<br />\n<br />\n<em><strong><a href="https://chambermaster.blob.core.windows.net/userfiles/UserFiles/chambers/9232/File/MSBIA_ContractorsGuideSellSheet.pdf"><span style="color:#000080\;">CLICK HERE FOR FULL DETAILS\, PRICING AND AD SIZES</span></a></strong></em><br />\n&nbsp\;
LOCATION:
UID:e.9232.1784
SEQUENCE:3
DTSTAMP:20260422T215134Z
URL:https://business.ms-bia.org/events/details/2018-contractors-guide-membership-directory-1784
END:VEVENT

END:VCALENDAR
