BEGIN:VCALENDAR
VERSION:2.0
PRODID:-//ChamberMaster//Event Calendar 2.0//EN
METHOD:PUBLISH
X-PUBLISHED-TTL:P3D
REFRESH-INTERVAL:P3D
CALSCALE:GREGORIAN
BEGIN:VEVENT
DTSTART:20150807T160000Z
DTEND:20150808T210000Z
X-MICROSOFT-CDO-ALLDAYEVENT:FALSE
SUMMARY:2015 Sarasota Slam
DESCRIPTION:Join us for the 14th Annual Sarasota Slam Fishing Tournament!\n\n\n\nInshore\, Offshore and Jr. Angler Divisions! All boats will be automatically registered to win the Trash Can Slam at no extra charge! They is a mandetory captains meeting on Friday\, August 7th at 5pm\n\n\n\nCommunity Haven is our selected charity for 2015. If you would like to make a donation for the raffle or silent auction\, please contact Rachel Palmer \n\n\n\nWeigh-in\, silent auction and raffles on Saturday\, August 8th starting at 1pm. Followed by some amazing music by Blue Mason Barter.
X-ALT-DESC;FMTTYPE=text/html:Join us for the&nbsp\;14th Annual Sarasota Slam Fishing Tournament!<br />\n<br />\nInshore\, Offshore and Jr. Angler Divisions! All boats will be automatically registered to win the Trash Can Slam at no extra charge! They is a mandetory&nbsp\;captains meeting on Friday\, August 7th at 5pm<br />\n<br />\nCommunity Haven is our selected charity for 2015. If you would like to make a donation for the raffle or silent auction\, please contact <a href="mailto:rpalmer@communityhaven.org?subject=Sarasota%20Slam%20donation">Rachel Palmer</a>&nbsp\;<br />\n<br />\nWeigh-in\, silent auction and raffles on Saturday\, August 8th starting at 1pm. Followed by some amazing music by Blue Mason Barter.<br />\n<br />\n&nbsp\;
LOCATION:Marina Jack 1 Marina Plaza Sarasota\, FL 34236 or LATITUDE 29' 19.98 LONGITUDE 82' 2.78
UID:e.9232.607
SEQUENCE:3
DTSTAMP:20260421T174603Z
URL:https://business.ms-bia.org/events/details/2015-sarasota-slam-08-07-2015-607
END:VEVENT

END:VCALENDAR
