BEGIN:VCALENDAR
VERSION:2.0
PRODID:-//ChamberMaster//Event Calendar 2.0//EN
METHOD:PUBLISH
X-PUBLISHED-TTL:P3D
REFRESH-INTERVAL:P3D
CALSCALE:GREGORIAN
BEGIN:VEVENT
DTSTART:20150220T133000Z
DTEND:20150220T150000Z
X-MICROSOFT-CDO-ALLDAYEVENT:FALSE
SUMMARY:2015 Parade of Homes Realtor Preview
DESCRIPTION:Realtors join us for Breakfast with the Builders! Meet and Greet their sales teams!
X-ALT-DESC;FMTTYPE=text/html:Realtors join us for Breakfast with the Builders! Meet and Greet their sales teams!
LOCATION:Polo Grill - Fete Ballroom 10670 Boardwalk Loop Lakewood Ranch (Main Street)
UID:e.9232.593
SEQUENCE:3
DTSTAMP:20260422T052330Z
URL:https://business.ms-bia.org/events/details/2015-parade-of-homes-realtor-preview-02-20-2015-593
END:VEVENT

END:VCALENDAR
